BEGIN:VCALENDAR
VERSION:2.0
PRODID:-//Country View Manor - ECPv6.15.20//NONSGML v1.0//EN
CALSCALE:GREGORIAN
METHOD:PUBLISH
X-WR-CALNAME:Country View Manor
X-ORIGINAL-URL:https://countryviewmanor.com
X-WR-CALDESC:Events for Country View Manor
REFRESH-INTERVAL;VALUE=DURATION:PT1H
X-Robots-Tag:noindex
X-PUBLISHED-TTL:PT1H
BEGIN:VTIMEZONE
TZID:America/New_York
BEGIN:DAYLIGHT
TZOFFSETFROM:-0500
TZOFFSETTO:-0400
TZNAME:EDT
DTSTART:20250309T070000
END:DAYLIGHT
BEGIN:STANDARD
TZOFFSETFROM:-0400
TZOFFSETTO:-0500
TZNAME:EST
DTSTART:20251102T060000
END:STANDARD
BEGIN:DAYLIGHT
TZOFFSETFROM:-0500
TZOFFSETTO:-0400
TZNAME:EDT
DTSTART:20260308T070000
END:DAYLIGHT
BEGIN:STANDARD
TZOFFSETFROM:-0400
TZOFFSETTO:-0500
TZNAME:EST
DTSTART:20261101T060000
END:STANDARD
BEGIN:DAYLIGHT
TZOFFSETFROM:-0500
TZOFFSETTO:-0400
TZNAME:EDT
DTSTART:20270314T070000
END:DAYLIGHT
BEGIN:STANDARD
TZOFFSETFROM:-0400
TZOFFSETTO:-0500
TZNAME:EST
DTSTART:20271107T060000
END:STANDARD
END:VTIMEZONE
BEGIN:VEVENT
DTSTART;TZID=America/New_York:20260421T130000
DTEND;TZID=America/New_York:20260421T140000
DTSTAMP:20260421T225345
CREATED:20191104T192716Z
LAST-MODIFIED:20240718T174255Z
UID:8772-1776776400-1776780000@countryviewmanor.com
SUMMARY:Let's Walk!
DESCRIPTION:
URL:https://countryviewmanor.com/event/exercise/2026-04-21/
END:VEVENT
BEGIN:VEVENT
DTSTART;TZID=America/New_York:20260416T130000
DTEND;TZID=America/New_York:20260416T140000
DTSTAMP:20260421T225345
CREATED:20191104T192716Z
LAST-MODIFIED:20240718T174255Z
UID:8768-1776344400-1776348000@countryviewmanor.com
SUMMARY:Let's Walk!
DESCRIPTION:
URL:https://countryviewmanor.com/event/exercise/2026-04-16/
END:VEVENT
BEGIN:VEVENT
DTSTART;TZID=America/New_York:20260414T130000
DTEND;TZID=America/New_York:20260414T140000
DTSTAMP:20260421T225345
CREATED:20191104T192716Z
LAST-MODIFIED:20240718T174255Z
UID:8764-1776171600-1776175200@countryviewmanor.com
SUMMARY:Let's Walk!
DESCRIPTION:
URL:https://countryviewmanor.com/event/exercise/2026-04-14/
END:VEVENT
BEGIN:VEVENT
DTSTART;TZID=America/New_York:20260409T130000
DTEND;TZID=America/New_York:20260409T140000
DTSTAMP:20260421T225345
CREATED:20191104T192716Z
LAST-MODIFIED:20240718T174254Z
UID:8760-1775739600-1775743200@countryviewmanor.com
SUMMARY:Let's Walk!
DESCRIPTION:
URL:https://countryviewmanor.com/event/exercise/2026-04-09/
END:VEVENT
BEGIN:VEVENT
DTSTART;TZID=America/New_York:20260407T130000
DTEND;TZID=America/New_York:20260407T140000
DTSTAMP:20260421T225345
CREATED:20191104T192716Z
LAST-MODIFIED:20240718T174254Z
UID:8756-1775566800-1775570400@countryviewmanor.com
SUMMARY:Let's Walk!
DESCRIPTION:
URL:https://countryviewmanor.com/event/exercise/2026-04-07/
END:VEVENT
BEGIN:VEVENT
DTSTART;TZID=America/New_York:20260402T130000
DTEND;TZID=America/New_York:20260402T140000
DTSTAMP:20260421T225345
CREATED:20191104T192716Z
LAST-MODIFIED:20240718T174254Z
UID:8752-1775134800-1775138400@countryviewmanor.com
SUMMARY:Let's Walk!
DESCRIPTION:
URL:https://countryviewmanor.com/event/exercise/2026-04-02/
END:VEVENT
BEGIN:VEVENT
DTSTART;TZID=America/New_York:20260331T130000
DTEND;TZID=America/New_York:20260331T140000
DTSTAMP:20260421T225345
CREATED:20191104T192716Z
LAST-MODIFIED:20240718T174254Z
UID:8748-1774962000-1774965600@countryviewmanor.com
SUMMARY:Let's Walk!
DESCRIPTION:
URL:https://countryviewmanor.com/event/exercise/2026-03-31/
END:VEVENT
BEGIN:VEVENT
DTSTART;TZID=America/New_York:20260326T130000
DTEND;TZID=America/New_York:20260326T140000
DTSTAMP:20260421T225345
CREATED:20191104T192716Z
LAST-MODIFIED:20240718T174254Z
UID:8744-1774530000-1774533600@countryviewmanor.com
SUMMARY:Let's Walk!
DESCRIPTION:
URL:https://countryviewmanor.com/event/exercise/2026-03-26/
END:VEVENT
BEGIN:VEVENT
DTSTART;TZID=America/New_York:20260324T130000
DTEND;TZID=America/New_York:20260324T140000
DTSTAMP:20260421T225345
CREATED:20191104T192716Z
LAST-MODIFIED:20240718T174254Z
UID:8740-1774357200-1774360800@countryviewmanor.com
SUMMARY:Let's Walk!
DESCRIPTION:
URL:https://countryviewmanor.com/event/exercise/2026-03-24/
END:VEVENT
BEGIN:VEVENT
DTSTART;TZID=America/New_York:20260319T130000
DTEND;TZID=America/New_York:20260319T140000
DTSTAMP:20260421T225345
CREATED:20191104T192716Z
LAST-MODIFIED:20240718T174254Z
UID:8736-1773925200-1773928800@countryviewmanor.com
SUMMARY:Let's Walk!
DESCRIPTION:
URL:https://countryviewmanor.com/event/exercise/2026-03-19/
END:VEVENT
BEGIN:VEVENT
DTSTART;TZID=America/New_York:20260317T130000
DTEND;TZID=America/New_York:20260317T140000
DTSTAMP:20260421T225345
CREATED:20191104T192716Z
LAST-MODIFIED:20240718T174254Z
UID:8732-1773752400-1773756000@countryviewmanor.com
SUMMARY:Let's Walk!
DESCRIPTION:
URL:https://countryviewmanor.com/event/exercise/2026-03-17/
END:VEVENT
BEGIN:VEVENT
DTSTART;TZID=America/New_York:20260312T130000
DTEND;TZID=America/New_York:20260312T140000
DTSTAMP:20260421T225345
CREATED:20191104T192716Z
LAST-MODIFIED:20240718T174254Z
UID:8728-1773320400-1773324000@countryviewmanor.com
SUMMARY:Let's Walk!
DESCRIPTION:
URL:https://countryviewmanor.com/event/exercise/2026-03-12/
END:VEVENT
BEGIN:VEVENT
DTSTART;TZID=America/New_York:20260310T130000
DTEND;TZID=America/New_York:20260310T140000
DTSTAMP:20260421T225345
CREATED:20191104T192716Z
LAST-MODIFIED:20240718T174254Z
UID:8724-1773147600-1773151200@countryviewmanor.com
SUMMARY:Let's Walk!
DESCRIPTION:
URL:https://countryviewmanor.com/event/exercise/2026-03-10/
END:VEVENT
BEGIN:VEVENT
DTSTART;TZID=America/New_York:20260305T130000
DTEND;TZID=America/New_York:20260305T140000
DTSTAMP:20260421T225345
CREATED:20191104T192716Z
LAST-MODIFIED:20240718T174254Z
UID:8720-1772715600-1772719200@countryviewmanor.com
SUMMARY:Let's Walk!
DESCRIPTION:
URL:https://countryviewmanor.com/event/exercise/2026-03-05/
END:VEVENT
BEGIN:VEVENT
DTSTART;TZID=America/New_York:20260303T130000
DTEND;TZID=America/New_York:20260303T140000
DTSTAMP:20260421T225345
CREATED:20191104T192716Z
LAST-MODIFIED:20240718T174254Z
UID:8716-1772542800-1772546400@countryviewmanor.com
SUMMARY:Let's Walk!
DESCRIPTION:
URL:https://countryviewmanor.com/event/exercise/2026-03-03/
END:VEVENT
BEGIN:VEVENT
DTSTART;TZID=America/New_York:20260226T130000
DTEND;TZID=America/New_York:20260226T140000
DTSTAMP:20260421T225345
CREATED:20191104T192716Z
LAST-MODIFIED:20240718T174254Z
UID:8712-1772110800-1772114400@countryviewmanor.com
SUMMARY:Let's Walk!
DESCRIPTION:
URL:https://countryviewmanor.com/event/exercise/2026-02-26/
END:VEVENT
BEGIN:VEVENT
DTSTART;TZID=America/New_York:20260224T130000
DTEND;TZID=America/New_York:20260224T140000
DTSTAMP:20260421T225345
CREATED:20191104T192716Z
LAST-MODIFIED:20240718T174254Z
UID:8708-1771938000-1771941600@countryviewmanor.com
SUMMARY:Let's Walk!
DESCRIPTION:
URL:https://countryviewmanor.com/event/exercise/2026-02-24/
END:VEVENT
BEGIN:VEVENT
DTSTART;TZID=America/New_York:20260219T130000
DTEND;TZID=America/New_York:20260219T140000
DTSTAMP:20260421T225345
CREATED:20191104T192716Z
LAST-MODIFIED:20240718T174254Z
UID:8704-1771506000-1771509600@countryviewmanor.com
SUMMARY:Let's Walk!
DESCRIPTION:
URL:https://countryviewmanor.com/event/exercise/2026-02-19/
END:VEVENT
BEGIN:VEVENT
DTSTART;TZID=America/New_York:20260217T130000
DTEND;TZID=America/New_York:20260217T140000
DTSTAMP:20260421T225345
CREATED:20191104T192716Z
LAST-MODIFIED:20240718T174254Z
UID:8700-1771333200-1771336800@countryviewmanor.com
SUMMARY:Let's Walk!
DESCRIPTION:
URL:https://countryviewmanor.com/event/exercise/2026-02-17/
END:VEVENT
BEGIN:VEVENT
DTSTART;TZID=America/New_York:20260212T130000
DTEND;TZID=America/New_York:20260212T140000
DTSTAMP:20260421T225345
CREATED:20191104T192716Z
LAST-MODIFIED:20240718T174254Z
UID:8696-1770901200-1770904800@countryviewmanor.com
SUMMARY:Let's Walk!
DESCRIPTION:
URL:https://countryviewmanor.com/event/exercise/2026-02-12/
END:VEVENT
BEGIN:VEVENT
DTSTART;TZID=America/New_York:20260210T130000
DTEND;TZID=America/New_York:20260210T140000
DTSTAMP:20260421T225345
CREATED:20191104T192716Z
LAST-MODIFIED:20240718T174254Z
UID:8692-1770728400-1770732000@countryviewmanor.com
SUMMARY:Let's Walk!
DESCRIPTION:
URL:https://countryviewmanor.com/event/exercise/2026-02-10/
END:VEVENT
BEGIN:VEVENT
DTSTART;TZID=America/New_York:20260205T130000
DTEND;TZID=America/New_York:20260205T140000
DTSTAMP:20260421T225345
CREATED:20191104T192716Z
LAST-MODIFIED:20240718T174254Z
UID:8688-1770296400-1770300000@countryviewmanor.com
SUMMARY:Let's Walk!
DESCRIPTION:
URL:https://countryviewmanor.com/event/exercise/2026-02-05/
END:VEVENT
BEGIN:VEVENT
DTSTART;TZID=America/New_York:20260203T130000
DTEND;TZID=America/New_York:20260203T140000
DTSTAMP:20260421T225345
CREATED:20191104T192716Z
LAST-MODIFIED:20240718T174253Z
UID:8684-1770123600-1770127200@countryviewmanor.com
SUMMARY:Let's Walk!
DESCRIPTION:
URL:https://countryviewmanor.com/event/exercise/2026-02-03/
END:VEVENT
BEGIN:VEVENT
DTSTART;TZID=America/New_York:20260129T130000
DTEND;TZID=America/New_York:20260129T140000
DTSTAMP:20260421T225345
CREATED:20191104T192716Z
LAST-MODIFIED:20240718T174253Z
UID:8680-1769691600-1769695200@countryviewmanor.com
SUMMARY:Let's Walk!
DESCRIPTION:
URL:https://countryviewmanor.com/event/exercise/2026-01-29/
END:VEVENT
BEGIN:VEVENT
DTSTART;TZID=America/New_York:20260127T130000
DTEND;TZID=America/New_York:20260127T140000
DTSTAMP:20260421T225345
CREATED:20191104T192716Z
LAST-MODIFIED:20240718T174253Z
UID:8676-1769518800-1769522400@countryviewmanor.com
SUMMARY:Let's Walk!
DESCRIPTION:
URL:https://countryviewmanor.com/event/exercise/2026-01-27/
END:VEVENT
BEGIN:VEVENT
DTSTART;TZID=America/New_York:20260122T130000
DTEND;TZID=America/New_York:20260122T140000
DTSTAMP:20260421T225345
CREATED:20191104T192716Z
LAST-MODIFIED:20240718T174253Z
UID:8672-1769086800-1769090400@countryviewmanor.com
SUMMARY:Let's Walk!
DESCRIPTION:
URL:https://countryviewmanor.com/event/exercise/2026-01-22/
END:VEVENT
BEGIN:VEVENT
DTSTART;TZID=America/New_York:20260120T130000
DTEND;TZID=America/New_York:20260120T140000
DTSTAMP:20260421T225345
CREATED:20191104T192716Z
LAST-MODIFIED:20240718T174253Z
UID:8668-1768914000-1768917600@countryviewmanor.com
SUMMARY:Let's Walk!
DESCRIPTION:
URL:https://countryviewmanor.com/event/exercise/2026-01-20/
END:VEVENT
BEGIN:VEVENT
DTSTART;TZID=America/New_York:20260115T130000
DTEND;TZID=America/New_York:20260115T140000
DTSTAMP:20260421T225345
CREATED:20191104T192716Z
LAST-MODIFIED:20240718T174253Z
UID:8664-1768482000-1768485600@countryviewmanor.com
SUMMARY:Let's Walk!
DESCRIPTION:
URL:https://countryviewmanor.com/event/exercise/2026-01-15/
END:VEVENT
BEGIN:VEVENT
DTSTART;TZID=America/New_York:20260113T130000
DTEND;TZID=America/New_York:20260113T140000
DTSTAMP:20260421T225345
CREATED:20191104T192716Z
LAST-MODIFIED:20240718T174253Z
UID:8660-1768309200-1768312800@countryviewmanor.com
SUMMARY:Let's Walk!
DESCRIPTION:
URL:https://countryviewmanor.com/event/exercise/2026-01-13/
END:VEVENT
BEGIN:VEVENT
DTSTART;TZID=America/New_York:20260108T130000
DTEND;TZID=America/New_York:20260108T140000
DTSTAMP:20260421T225345
CREATED:20191104T192716Z
LAST-MODIFIED:20240718T174253Z
UID:8656-1767877200-1767880800@countryviewmanor.com
SUMMARY:Let's Walk!
DESCRIPTION:
URL:https://countryviewmanor.com/event/exercise/2026-01-08/
END:VEVENT
END:VCALENDAR